{"text_format":"1","workbook":"xlsx","n_sheets":2,"sheets":["Info & Summary","Current Calibrations"],"not_rendered":{"charts":2,"images":6,"macros":1,"external_links":0,"defined_names":1,"comments":0,"pivot_tables":0},"unopened":[],"bounds":{"document_bytes":16777216,"sheet_cells":100000,"rows_first":2000,"rows_last":500,"rows_between":2000,"halvings":0,"cell_chars":16384,"cell_head_chars":4096},"cells_cut":0,"cells_raw":0,"read":"whole","date_system":"1900"}

{"sheet":"Info & Summary","index":0,"n_rows":16,"n_cols":13,"rows_kept":16,"cut":false,"hidden":false,"merged":[[2,0,2,1],[2,2,2,3],[2,4,2,5],[3,0,3,1],[3,2,3,3],[3,4,3,5],[13,1,13,2],[12,0,12,12],[7,0,7,4],[8,3,8,4],[8,1,8,2],[13,11,13,12],[13,9,13,10],[13,7,13,8],[13,5,13,6],[13,3,13,4]]}
["Instrument Information:"]
[]
["Instrument Type",null,"Serial Number",null,"Instrument Name"]
["HPD",null,"enter S/N",null,"enter name"]
[]
["Current Calibration Summary:"]
[]
["Pressure Cells"]
[null,"TPC A",null,"TPC B"]
[{"$f":"'Current Calibrations'!A64","v":"Intercept"},{"$f":"'Current Calibrations'!B64","v":133.78402948402947},{"$f":"'Current Calibrations'!C64","v":"mV"},{"$f":"'Current Calibrations'!E64","v":-1625.6793611793614},{"$f":"'Current Calibrations'!F64","v":"mV"}]
[{"$f":"'Current Calibrations'!A65","v":"Slope"},{"$f":"'Current Calibrations'!B65","v":6.5349176904176902},{"$f":"'Current Calibrations'!C65","v":"mV/Bars"},{"$f":"'Current Calibrations'!E65","v":6.4853832923832924},{"$f":"'Current Calibrations'!F65","v":"mV/Bars"}]
[{"$f":"'Current Calibrations'!A66","v":"Slope"},{"$f":"'Current Calibrations'!B66","v":65.3491769041769},{"$f":"'Current Calibrations'!C66","v":"mV/MPa"},{"$f":"'Current Calibrations'!E66","v":64.853832923832925},{"$f":"'Current Calibrations'!F66","v":"mV/MPa"}]
["Arm Springs"]
[null,"Arm 1",null,"Arm 2",null,"Arm 3",null,"Arm 4",null,"Arm 5",null,"Arm 6"]
[{"$f":"'Current Calibrations'!A32","v":"Intercept"},{"$f":"'Current Calibrations'!B32","v":-1590.4823095823103},{"$f":"'Current Calibrations'!C32","v":"mV"},{"$f":"'Current Calibrations'!E32","v":-2116.5941031941038},{"$f":"'Current Calibrations'!F32","v":"mV"},{"$f":"'Current Calibrations'!H32","v":-1621.855528255529},{"$f":"'Current Calibrations'!I32","v":"mV"},{"$f":"'Current Calibrations'!K32","v":-1708.1218673218675},{"$f":"'Current Calibrations'!L32","v":"mV"},{"$f":"'Current Calibrations'!N32","v":-1887.2886977886976},{"$f":"'Current Calibrations'!O32","v":"mV"},{"$f":"'Current Calibrations'!Q32","v":-1554.7432432432433},{"$f":"'Current Calibrations'!R32","v":"mV"}]
[{"$f":"'Current Calibrations'!A33","v":"Slope"},{"$f":"'Current Calibrations'!B33","v":128.76114250614259},{"$f":"'Current Calibrations'!C33","v":"mV/mm"},{"$f":"'Current Calibrations'!E33","v":131.11038083538088},{"$f":"'Current Calibrations'!F33","v":"mV/mm"},{"$f":"'Current Calibrations'!H33","v":126.60183046683051},{"$f":"'Current Calibrations'!I33","v":"mV/mm"},{"$f":"'Current Calibrations'!K33","v":127.47379606879609},{"$f":"'Current Calibrations'!L33","v":"mV/mm"},{"$f":"'Current Calibrations'!N33","v":124.02781326781327},{"$f":"'Current Calibrations'!O33","v":"mV/mm"},{"$f":"'Current Calibrations'!Q33","v":129.62554054054056},{"$f":"'Current Calibrations'!R33","v":"mV/mm"}]

{"sheet":"Current Calibrations","index":1,"n_rows":102,"n_cols":19,"rows_kept":102,"cut":false,"hidden":false,"merged":[[0,0,0,1],[0,2,0,3],[0,4,0,5],[0,6,0,7],[0,8,0,9],[2,0,5,0],[2,1,5,18],[6,0,6,18],[38,0,38,6],[1,0,1,1],[1,2,1,3],[1,4,1,5],[1,6,1,7],[1,8,1,9]]}
["Calibration Date",null,"Operator",null,"Instrument Type",null,"Serial Number",null,"Instrument Name"]
[null,null,null,null,{"$f":"'Info & Summary'!A4","v":"HPD"},null,{"$f":"'Info & Summary'!C4","v":"enter S/N"},null,{"$f":"'Info & Summary'!E4","v":"enter name"}]
["Notes:"]
[]
[]
[]
["Arm Springs"]
[]
["mm","Arm 1","Linearity","Hysteresis","Arm 2","Linearity","Hysteresis","Arm 3","Linearity","Hysteresis","Arm 4","Linearity","Hysteresis","Arm 5","Linearity","Hysteresis","Arm 6","Linearity","Hysteresis"]
[null,"(mV)","(%)","(%)","(mV)","(%)","(%)","(mV)","(%)","(%)","(mV)","(%)","(%)","(mV)","(%)","(%)","(mV)","(%)","(%)"]
[0,-1616.5,{"$f":"(B12-B11)*50/B$33","v":109.7380756723708},{"$f":"(B11-B31)*100/(B$21-B$11)","v":0.13585901715705304},-2139.5,{"$f":"(E12-E11)*50/E$33","v":108.91586088770217},{"$f":"(E11-E31)*100/(E$21-E$11)","v":2.662305556611334E-2},-1637.4,{"$f":"(H12-H11)*50/H$33","v":105.2907367203703},{"$f":"(H11-H31)*100/(H$21-H$11)","v":0.10283183040657763},-1721.7,{"$f":"(K12-K11)*50/K$33","v":103.98215483318972},{"$f":"(K11-K31)*100/(K$21-K$11)","v":-1.1766551615937973E-2},-1914.1,{"$f":"(N12-N11)*50/N$33","v":108.96749401537103},{"$f":"(N11-N31)*100/(N$21-N$11)","v":3.6227508754984941E-2},-1578.3,{"$f":"(Q12-Q11)*50/Q$33","v":108.42770600138232},{"$f":"(Q11-Q31)*100/(Q$21-Q$11)","v":-6.1628534011243706E-2}]
[2,-1333.9,103.05904205041482,{"$f":"(B12-B30)*100/(B$21-B$11)","v":3.4935175840379772E-2},-1853.9,102.01328006813844,{"$f":"(E12-E30)*100/(E$21-E$11)","v":-6.8459285741459014E-2},-1370.8,101.85476744254866,{"$f":"(H12-H30)*100/(H$21-H$11)","v":0},-1456.6,102.41320493001062,{"$f":"(K12-K30)*100/(K$21-K$11)","v":-0.12943206777533553},-1643.8,103.40422573045754,{"$f":"(N12-N30)*100/(N$21-N$11)","v":6.0379181258302134E-2},-1297.2,101.71606571527758,{"$f":"(Q12-Q30)*100/(Q$21-Q$11)","v":-5.7776750635544258E-2}]
[4,-1068.5,101.58344159905242,{"$f":"(B13-B29)*100/(B$21-B$11)","v":7.7633724089744588E-2},-1586.4,100.94547751041588,{"$f":"(E13-E29)*100/(E$21-E$11)","v":-5.7049404784543407E-2},-1112.9000000000001,101.459828445098,{"$f":"(H13-H29)*100/(H$21-H$11)","v":-3.9550704002585197E-3},-1195.5,100.84425502683165,{"$f":"(K13-K29)*100/(K$21-K$11)","v":-3.9221838719763515E-3},-1387.3,105.2183349537989,{"$f":"(N13-N29)*100/(N$21-N$11)","v":8.0505575011087811E-3},-1033.5,101.9089289418898,{"$f":"(Q13-Q29)*100/(Q$21-Q$11)","v":-0.12710885139819561}]
[6,-806.9,100.8068097825459,{"$f":"(B14-B28)*100/(B$21-B$11)","v":4.6580234453848519E-2},-1321.7,99.953946563959249,{"$f":"(E14-E28)*100/(E$21-E$11)","v":-3.8032936523028943E-2},-856,101.10438334739229,{"$f":"(H14-H28)*100/(H$21-H$11)","v":2.3730422401519645E-2},-938.4,101.00115001714953,{"$f":"(K14-K28)*100/(K$21-K$11)","v":-3.9221838719808106E-3},-1126.3,99.171304209327701,{"$f":"(N14-N28)*100/(N$21-N$11)","v":0.165036428772698},-769.3,100.59745900092676,{"$f":"(Q14-Q28)*100/(Q$21-Q$11)","v":-6.548031738694754E-2}]
[8,-547.29999999999995,99.68069364861141,{"$f":"(B15-B27)*100/(B$21-B$11)","v":0.10868721372564508},-1059.5999999999999,99.877674952693241,{"$f":"(E15-E27)*100/(E$21-E$11)","v":-1.9016468261514471E-2},-600,100.2750114527457,{"$f":"(H15-H27)*100/(H$21-H$11)","v":3.1640563202023193E-2},-680.9,100.0597800752421,{"$f":"(K15-K27)*100/(K$21-K$11)","v":5.8832758079698781E-2},-880.3,99.493812515699474,{"$f":"(N15-N27)*100/(N$21-N$11)","v":-1.2075836251658596E-2},-508.5,100.17315990237992,{"$f":"(Q15-Q27)*100/(Q$21-Q$11)","v":-5.7776750635544258E-2}]
[10,-290.60000000000002,99.408872512834151,{"$f":"(B16-B26)*100/(B$21-B$11)","v":7.7633724089744588E-2},-797.7,99.000551423135477,{"$f":"(E16-E26)*100/(E$21-E$11)","v":-3.0426349218425748E-2},-346.1,98.458292064472261,{"$f":"(H16-H26)*100/(H$21-H$11)","v":3.1640563202023193E-2},-425.8,99.353752618811555,{"$f":"(K16-K26)*100/(K$21-K$11)","v":7.0599309695638976E-2},-633.5,98.848795902955899,{"$f":"(N16-N26)*100/(N$21-N$11)","v":-1.2075836251658596E-2},-248.8,99.440279641253539,{"$f":"(Q16-Q26)*100/(Q$21-Q$11)","v":-7.7035667514065587E-3}]
[12,-34.6,98.243924788074381,{"$f":"(B17-B25)*100/(B$21-B$11)","v":4.658023445384659E-2},-538.1,98.504785949907131,{"$f":"(E17-E25)*100/(E$21-E$11)","v":0},-96.8,99.485133457844199,{"$f":"(H17-H25)*100/(H$21-H$11)","v":2.3730422401519083E-2},-172.5,98.569277667222053,{"$f":"(K17-K25)*100/(K$21-K$11)","v":5.0988390335739389E-2},-388.3,96.268729451981514,{"$f":"(N17-N25)*100/(N$21-N$11)","v":3.6227508754980361E-2},9,98.283100281580303,{"$f":"(Q17-Q25)*100/(Q$21-Q$11)","v":-2.311070025421769E-2}]
[14,218.4,96.651829564236024,{"$f":"(B18-B24)*100/(B$21-B$11)","v":3.881686204487009E-3},-279.8,98.123427893577642,{"$f":"(E18-E24)*100/(E$21-E$11)","v":-7.9869166698361638E-2},155.1,97.984365267531359,{"$f":"(H18-H24)*100/(H$21-H$11)","v":1.9775352001265623E-2},78.8,98.569277667222053,{"$f":"(K18-K24)*100/(K$21-K$11)","v":7.8443677439599489E-3},-149.5,97.276567909393393,{"$f":"(N18-N24)*100/(N$21-N$11)","v":-0.10868252626494339},263.8,97.280211503196824,{"$f":"(Q18-Q24)*100/(Q$21-Q$11)","v":-3.0814267005624042E-2}]
[16,467.3,95.681039793602892,{"$f":"(B19-B23)*100/(B$21-B$11)","v":-3.8816862044872294E-2},-22.5,97.932748865412904,{"$f":"(E19-E23)*100/(E$21-E$11)","v":-0.11409880956908681},403.2,96.918029974414338,{"$f":"(H19-H23)*100/(H$21-H$11)","v":-1.5820281601013845E-2},330.1,97.941697705950403,{"$f":"(K19-K23)*100/(K$21-K$11)","v":-2.3533103231878173E-2},91.8,96.671864834946263,{"$f":"(N19-N23)*100/(N$21-N$11)","v":-0.10465724751439071},516,97.010202985939742,{"$f":"(Q19-Q23)*100/(Q$21-Q$11)","v":-5.7776750635544258E-2}]
[18,713.7,95.525713430301579,{"$f":"(B20-B22)*100/(B$21-B$11)","v":-0.11256889993012878},234.3,97.436983392184558,{"$f":"(E20-E22)*100/(E$21-E$11)","v":-0.13691857148290396},648.6,95.733212982062057,{"$f":"(H20-H22)*100/(H$21-H$11)","v":-7.910140800506249E-2},579.79999999999995,97.314117744678839,{"$f":"(K20-K22)*100/(K$21-K$11)","v":-8.2365861311579178E-2},331.6,96.188102375388581,{"$f":"(N20-N22)*100/(N$21-N$11)","v":-0.13685947751881725},767.5,96.585903887392874,{"$f":"(Q20-Q22)*100/(Q$21-Q$11)","v":-0.13481241814960326}]
[20,959.7,-94.399597296367133,null,489.8,-96.064094389398406,null,891,-94.943334987160554,null,827.9,-96.490419045509839,null,570.20000000000005,-94.817442073308442,null,1017.9,-95.235861301107434]
[18,716.6,-96.418840019284062,null,237.9,-98.161563699210575,null,650.6,-97.549932370335526,null,581.9,-98.530053919642569,null,335,-96.994373141318064,null,771,-97.781655892388557]
[16,468.3,-97.078977063314611,null,-19.5,-98.466650144274183,null,403.6,-98.339810365237042,null,330.7,-98.883067647857857,null,94.4,-97.236254371096919,null,517.5,-97.550220020453906]
[14,218.3,-98.671072287152981,null,-277.7,-99.305637868199071,null,154.6,-99.524627357589281,null,78.599999999999994,-99.000738890596281,null,-146.80000000000001,-97.7200168306546,null,264.60000000000002,-98.360245572225196]
[12,-35.799999999999997,-99.719525239436763,null,-538.1,-98.695464978071868,null,-97.4,-98.537279863962397,null,-173.8,-99.549871356708934,null,-389.2,-98.365033443398232,null,9.6,-99.594570222543297]
[10,-292.60000000000002,-99.99134637521405,null,-796.9,-99.992082369592111,null,-346.9,-100.2750114527457,null,-427.6,-99.942108832503678,null,-633.20000000000005,-99.493812515699474,null,-248.6,-99.671715513188175]
[8,-550.1,-100.18550432934067,null,-1059.0999999999999,-99.763267535794498,null,-600.79999999999995,-101.02539554790216,null,-682.4,-100.37357005587791,null,-880,-100.94509989437262,null,-507,-100.52031371028191]
[6,-808.1,-101.89409432565499,null,-1320.7,-100.75479848225113,null,-856.6,-101.18337114688241,null,-938.3,-100.84425502683169,null,-1130.4000000000001,-103.64610696023635,null,-767.6,-101.29176661673073]
[4,-1070.5,-102.63189455133619,null,-1584.9,-101.89887265123951,null,-1112.8,-101.89426134229379,null,-1195.4000000000001,-101.15804500746738,null,-1387.5,-103.92830172831169,null,-1030.2,-102.41037333108152]
[2,-1334.8,-110.74769703382931,null,-1852.1,-109.8692560285259,null,-1370.8,-106.31757811374221,null,-1453.3,-105.158867260574,null,-1645.3,-108.7256127855922,null,-1295.7,-108.3891333560599]
[0,-1620,null,null,-2140.1999999999998,null,null,-1640,null,null,-1721.4,null,null,-1915,null,null,-1576.7]
["Intercept",{"$f":"INTERCEPT(B$11:B$31,$A$11:$A$31)","v":-1590.4823095823103},"mV",null,{"$f":"INTERCEPT(E$11:E$31,$A$11:$A$31)","v":-2116.5941031941038},"mV",null,{"$f":"INTERCEPT(H$11:H$31,$A$11:$A$31)","v":-1621.855528255529},"mV",null,{"$f":"INTERCEPT(K$11:K$31,$A$11:$A$31)","v":-1708.1218673218675},"mV",null,{"$f":"INTERCEPT(N$11:N$31,$A$11:$A$31)","v":-1887.2886977886976},"mV",null,{"$f":"INTERCEPT(Q$11:Q$31,$A$11:$A$31)","v":-1554.7432432432433},"mV"]
["Slope",{"$f":"SLOPE(B$11:B$31,$A$11:$A$31)","v":128.76114250614259},"mV/mm",null,{"$f":"SLOPE(E$11:E$31,$A$11:$A$31)","v":131.11038083538088},"mV/mm",null,{"$f":"SLOPE(H$11:H$31,$A$11:$A$31)","v":126.60183046683051},"mV/mm",null,{"$f":"SLOPE(K$11:K$31,$A$11:$A$31)","v":127.47379606879609},"mV/mm",null,{"$f":"SLOPE(N$11:N$31,$A$11:$A$31)","v":124.02781326781327},"mV/mm",null,{"$f":"SLOPE(Q$11:Q$31,$A$11:$A$31)","v":129.62554054054056},"mV/mm"]
[]
["Max Output",null,"mV",null,null,"mV",null,null,"mV",null,null,"mV",null,null,"mV",null,null,"mV"]
["Min Output",null,"mV",null,null,"mV",null,null,"mV",null,null,"mV",null,null,"mV",null,null,"mV"]
["Max Range",null,"mm",null,null,"mm",null,null,"mm",null,null,"mm",null,null,"mm",null,null,"mm"]
[]
["Pressure Cells"]
[]
["Bars","TPC A","Linearity","Hysteresis","TPC B","Linearity","Hysteresis"]
[null,"(mV)","(%)","(%)","(mV)","(%)","(%)"]
[0,129.6,{"$f":"(B44-B43)*100/(B$65*($A44-$A43))","v":105.73966386955881},{"$f":"(B43-B63)*100/(B$53-B$43)","v":-6.0994205550473565E-2},-1628.7,{"$f":"(E44-E43)*100/(E$65*($A44-$A43))","v":105.62213043051639},{"$f":"(E43-E63)*100/(E$53-E$43)","v":1.5375153751541009E-2}]
[20,267.8,97.01728928118709,{"$f":"(B44-B62)*100/(B$53-B$43)","v":-0.13723696248856443},-1491.7,95.059917387464736,{"$f":"(E44-E62)*100/(E$53-E$43)","v":-0.22293972939730095}]
[40,394.6,99.312651014969077,{"$f":"(B45-B61)*100/(B$53-B$43)","v":-0.2516010978956964},-1368.4,99.146029002660029,{"$f":"(E45-E61)*100/(E$53-E$43)","v":-0.36131611316113504}]
[60,524.4,99.542187188347327,{"$f":"(B46-B60)*100/(B$53-B$43)","v":-0.16010978956999256},-1239.8,99.377318339368969,{"$f":"(E46-E60)*100/(E$53-E$43)","v":-0.30750307503075025}]
[80,654.5,99.695211303932751,{"$f":"(B47-B59)*100/(B$53-B$43)","v":-0.26684964928331806},-1110.9000000000001,99.531511230508627,{"$f":"(E47-E59)*100/(E$53-E$43)","v":-0.42281672816728161}]
[100,784.8,100.46033188186018,{"$f":"(B48-B58)*100/(B$53-B$43)","v":-0.31259530344617431},-981.8,100.9963436963332,{"$f":"(E48-E58)*100/(E$53-E$43)","v":-0.56119311193111576}]
[120,916.1,101.07242834420201,{"$f":"(B49-B57)*100/(B$53-B$43)","v":-0.28972247636474185},-850.8,101.53601881532119,{"$f":"(E49-E57)*100/(E$53-E$43)","v":-0.48431734317342817}]
[140,1048.2,99.848235419518247,{"$f":"(B50-B56)*100/(B$53-B$43)","v":-2.2872827081423797E-2},-719.1,99.91699345835714,{"$f":"(E50-E56)*100/(E$53-E$43)","v":-0.19987699876998943}]
[160,1178.7,100.53684393965275,{"$f":"(B51-B55)*100/(B$53-B$43)","v":-3.0497102775225948E-2},-589.5,100.91924725076346,{"$f":"(E51-E55)*100/(E$53-E$43)","v":-0.2229397293972922}]
[180,1310.0999999999999,100.30730776627476,{"$f":"(B52-B54)*100/(B$53-B$43)","v":-3.0497102775243284E-2},-458.6,100.76505435962407,{"$f":"(E52-E54)*100/(E$53-E$43)","v":-0.15375153751537513}]
[200,1441.2,100.00125953510374,null,-327.9,99.223125448229666]
[180,1310.5,100.53684393965293,null,-456.6,100.225379240636]
[160,1179.0999999999999,99.924747477310916,null,-586.6,100.14828279506627]
[140,1048.5,98.394506321456319,null,-716.5,98.683450329241595]
[120,919.9,100.23079570848192,null,-844.5,100.225379240636]
[100,788.9,100.15428365068918,null,-974.5,100.91924725076355]
[80,658,100.61335599744559,null,-1105.4000000000001,100.53376502291476]
[60,526.5,98.394506321456319,null,-1235.8,98.606353883671943]
[40,397.9,98.164970148078069,null,-1363.7,96.447653407719656]
[20,269.60000000000002,106.50478444748614,null,-1488.8,108.01212024317783]
[0,130.4,null,null,-1628.9]
["Intercept",{"$f":"INTERCEPT(B43:B63,$A43:$A63)","v":133.78402948402947},"mV",null,{"$f":"INTERCEPT(E43:E63,$A43:$A63)","v":-1625.6793611793614},"mV"]
["Slope",{"$f":"SLOPE(B43:B63,$A43:$A63)","v":6.5349176904176902},"mV/Bars",null,{"$f":"SLOPE(E43:E63,$A43:$A63)","v":6.4853832923832924},"mV/Bars"]
["Slope",{"$f":"SLOPE(B43:B63,$A43:$A63)*10","v":65.3491769041769},"mV/MPa",null,{"$f":"SLOPE(E43:E63,$A43:$A63)*10","v":64.853832923832925},"mV/MPa"]
[]
["Do Not Enter Text Below This Line.",null,null,null,"Do Not Enter Text Below This Line.",null,null,null,"Do Not Enter Text Below This Line.",null,null,null,"Do Not Enter Text Below This Line.",null,null,null,"Do Not Enter Text Below This Line."]
[]
[]
[]
[]
[]
[]
[]
[]
[]
[]
[]
["mm","Arm 1","Arm 2","Arm 3","Arm 4","Arm 5","Arm 6"]
["Plot?",false,false,false,false,false,false]
[0,{"$f":"IF(B$81=TRUE, B11, #N/A)","v":{"$error":"#N/A"}},{"$f":"IF(C$81=TRUE, E11, #N/A)","v":{"$error":"#N/A"}},{"$f":"IF(D$81=TRUE, H11, #N/A)","v":{"$error":"#N/A"}},{"$f":"IF(E$81=TRUE, K11, #N/A)","v":{"$error":"#N/A"}},{"$f":"IF(F$81=TRUE, N11, #N/A)","v":{"$error":"#N/A"}},{"$f":"IF(G$81=TRUE, Q11, #N/A)","v":{"$error":"#N/A"}}]
[2,{"$error":"#N/A"},{"$error":"#N/A"},{"$error":"#N/A"},{"$error":"#N/A"},{"$error":"#N/A"},{"$error":"#N/A"}]
[4,{"$error":"#N/A"},{"$error":"#N/A"},{"$error":"#N/A"},{"$error":"#N/A"},{"$error":"#N/A"},{"$error":"#N/A"}]
[6,{"$error":"#N/A"},{"$error":"#N/A"},{"$error":"#N/A"},{"$error":"#N/A"},{"$error":"#N/A"},{"$error":"#N/A"}]
[8,{"$error":"#N/A"},{"$error":"#N/A"},{"$error":"#N/A"},{"$error":"#N/A"},{"$error":"#N/A"},{"$error":"#N/A"}]
[10,{"$error":"#N/A"},{"$error":"#N/A"},{"$error":"#N/A"},{"$error":"#N/A"},{"$error":"#N/A"},{"$error":"#N/A"}]
[12,{"$error":"#N/A"},{"$error":"#N/A"},{"$error":"#N/A"},{"$error":"#N/A"},{"$error":"#N/A"},{"$error":"#N/A"}]
[14,{"$error":"#N/A"},{"$error":"#N/A"},{"$error":"#N/A"},{"$error":"#N/A"},{"$error":"#N/A"},{"$error":"#N/A"}]
[16,{"$error":"#N/A"},{"$error":"#N/A"},{"$error":"#N/A"},{"$error":"#N/A"},{"$error":"#N/A"},{"$error":"#N/A"}]
[18,{"$error":"#N/A"},{"$error":"#N/A"},{"$error":"#N/A"},{"$error":"#N/A"},{"$error":"#N/A"},{"$error":"#N/A"}]
[20,{"$error":"#N/A"},{"$error":"#N/A"},{"$error":"#N/A"},{"$error":"#N/A"},{"$error":"#N/A"},{"$error":"#N/A"}]
[18,{"$error":"#N/A"},{"$error":"#N/A"},{"$error":"#N/A"},{"$error":"#N/A"},{"$error":"#N/A"},{"$error":"#N/A"}]
[16,{"$error":"#N/A"},{"$error":"#N/A"},{"$error":"#N/A"},{"$error":"#N/A"},{"$error":"#N/A"},{"$error":"#N/A"}]
[14,{"$error":"#N/A"},{"$error":"#N/A"},{"$error":"#N/A"},{"$error":"#N/A"},{"$error":"#N/A"},{"$error":"#N/A"}]
[12,{"$error":"#N/A"},{"$error":"#N/A"},{"$error":"#N/A"},{"$error":"#N/A"},{"$error":"#N/A"},{"$error":"#N/A"}]
[10,{"$error":"#N/A"},{"$error":"#N/A"},{"$error":"#N/A"},{"$error":"#N/A"},{"$error":"#N/A"},{"$error":"#N/A"}]
[8,{"$error":"#N/A"},{"$error":"#N/A"},{"$error":"#N/A"},{"$error":"#N/A"},{"$error":"#N/A"},{"$error":"#N/A"}]
[6,{"$error":"#N/A"},{"$error":"#N/A"},{"$error":"#N/A"},{"$error":"#N/A"},{"$error":"#N/A"},{"$error":"#N/A"}]
[4,{"$error":"#N/A"},{"$error":"#N/A"},{"$error":"#N/A"},{"$error":"#N/A"},{"$error":"#N/A"},{"$error":"#N/A"}]
[2,{"$error":"#N/A"},{"$error":"#N/A"},{"$error":"#N/A"},{"$error":"#N/A"},{"$error":"#N/A"},{"$error":"#N/A"}]
[0,{"$error":"#N/A"},{"$error":"#N/A"},{"$error":"#N/A"},{"$error":"#N/A"},{"$error":"#N/A"},{"$error":"#N/A"}]