{"text_format":"1","workbook":"xlsx","n_sheets":2,"sheets":["Info & Summary","Current Calibrations"],"not_rendered":{"charts":2,"images":3,"macros":0,"external_links":0,"defined_names":5,"comments":0,"pivot_tables":0},"unopened":[],"bounds":{"document_bytes":16777216,"sheet_cells":100000,"rows_first":2000,"rows_last":500,"rows_between":2000,"halvings":0,"cell_chars":16384,"cell_head_chars":4096},"cells_cut":0,"cells_raw":0,"read":"whole","date_system":"1900"}

{"sheet":"Info & Summary","index":0,"n_rows":13,"n_cols":7,"rows_kept":13,"cut":false,"hidden":false,"merged":[[7,0,7,2],[7,3,7,4],[7,5,7,6],[10,0,10,6],[2,0,2,1],[2,2,2,3],[2,4,2,5],[3,0,3,1],[3,2,3,3],[3,4,3,5]]}
["Instrument Information:"]
[]
["Instrument Type",null,"Serial Number",null,"Instrument Name"]
["RPM",null,"enter S/N",null,"enter name"]
[]
["Current Calibration Summary:"]
[]
["TPC"]
[{"$f":"'Current Calibrations'!$K$32","v":"Zero"},{"$f":"'Current Calibrations'!$L$32","v":-2828.8503685503692},{"$f":"'Current Calibrations'!$M$32","v":"mV"}]
[{"$f":"'Current Calibrations'!$K$33","v":"Slope"},{"$f":"'Current Calibrations'!$L$33","v":402.1555773955775},{"$f":"'Current Calibrations'!$M$33","v":"mV/Mpa"}]
["Arm Springs"]
[{"$f":"'Current Calibrations'!$A$32","v":"Zero"},{"$f":"'Current Calibrations'!$B$32","v":-2145.1184275184278},{"$f":"'Current Calibrations'!$C$32","v":"mV"},{"$f":"'Current Calibrations'!$E$32","v":-2349.7624078624085},{"$f":"'Current Calibrations'!$F$32","v":"mV"},{"$f":"'Current Calibrations'!$H$32","v":-2285.5282555282556},{"$f":"'Current Calibrations'!$I$32","v":"mV"}]
[{"$f":"'Current Calibrations'!$A$33","v":"Slope"},{"$f":"'Current Calibrations'!$B$33","v":352.47886977886981},{"$f":"'Current Calibrations'!$C$33","v":"mV/mm"},{"$f":"'Current Calibrations'!$E$33","v":335.36110565110573},{"$f":"'Current Calibrations'!$F$33","v":"mV/mm"},{"$f":"'Current Calibrations'!$H$33","v":339.16093366093367},{"$f":"'Current Calibrations'!$I$33","v":"mV/mm"}]

{"sheet":"Current Calibrations","index":1,"n_rows":72,"n_cols":17,"rows_kept":72,"cut":false,"hidden":false,"merged":[[2,0,5,0],[2,1,5,9],[6,4,6,5],[6,10,6,13],[0,0,0,1],[0,2,0,3],[0,4,0,5],[0,6,0,7],[0,8,0,9],[1,0,1,1],[1,2,1,3],[1,4,1,5],[1,6,1,7],[1,8,1,9]]}
["Calibration Date",null,"Operator",null,"Instrument Type",null,"Serial Number",null,"Instrument Name"]
[null,null,null,null,{"$f":"'Info & Summary'!A4","v":"RPM"},null,{"$f":"'Info & Summary'!C4","v":"enter S/N"},null,{"$f":"'Info & Summary'!E4","v":"enter name"}]
["Notes:"]
[]
[]
[]
[null,null,null,null,"Arm Springs",null,null,null,null,null,"Pressure Cell"]
[]
["mm","Arm 1","Linearity","Hysteresis","Arm 2","Linearity","Hysteresis","Arm 3","Linearity","Hysteresis","Mpa","TPC","Linearity","Hysteresis"]
[null,"(mV)","(%)","(%)","(mV)","(%)","(%)","(mV)","(%)","(%)",null,"(mV)","(%)","(%)"]
[0,-2165.6,{"$f":"(B12-B11)*100/(($A12-$A11)*B$33)","v":104.85734938717637},{"$f":"(B11-B31)*100/(B$21-B$12)","v":0.17072399620613629},-2365,{"$f":"(E12-E11)*100/(($A12-$A11)*E$33)","v":104.06692789326725},{"$f":"(E11-E31)*100/(E$21-E$12)","v":0.1330671989354624},-2300,{"$f":"(H12-H11)*100/(($A12-$A11)*H$33)","v":104.67007392865034},{"$f":"(H11-H31)*100/(H$21-H$12)","v":0.29585798816568049},0,-2775.6,{"$f":"(L12-L11)*100/(($K12-$K11)*L$33)","v":86.0860869422837},{"$f":"(L11-L31)*100/(L$21-L$11)","v":-1.7511820478818656E-2}]
[1,-1796,104.97083136703264,{"$f":"(B12-B30)*100/(B$21-B$12)","v":0.31615554852987671},-2016,103.76874185345847,{"$f":"(E12-E30)*100/(E$21-E$12)","v":0.36593479707252163},-1945,104.08038337130583,{"$f":"(H12-H30)*100/(H$21-H$12)","v":0.49309664694280081},1,-2429.4,{"$f":"(L13-L12)*100/(($K13-$K12)*L$33)","v":99.563458150463362},{"$f":"(L12-L30)*100/(L$21-L$11)","v":0.33022290045780445}]
[2,-1426,102.41748682026699,{"$f":"(B13-B29)*100/(B$21-B$12)","v":0.47423332279481506},-1668,101.97962561460572,{"$f":"(E13-E29)*100/(E$21-E$12)","v":0.49900199600798401},-1592,102.31131169927231,{"$f":"(H13-H29)*100/(H$21-H$12)","v":0.65746219592373434},2,-2029,{"$f":"(L14-L13)*100/(($K14-$K13)*L$33)","v":97.151456292172909},{"$f":"(L13-L29)*100/(L$21-L$11)","v":0.31521276861881542}]
[3,-1065,99.580437323860693,{"$f":"(B14-B28)*100/(B$21-B$12)","v":0.53746443250079035},-1326,100.78688145537058,{"$f":"(E14-E28)*100/(E$21-E$12)","v":0.5322687957418496},-1245,99.952549469894265,{"$f":"(H14-H28)*100/(H$21-H$12)","v":0.75608152531229456},3,-1638.3,{"$f":"(L15-L14)*100/(($K15-$K14)*L$33)","v":99.861850132932247},{"$f":"(L14-L28)*100/(L$21-L$11)","v":8.0054036474621504E-2}]
[4,-714,99.580437323860693,{"$f":"(B15-B27)*100/(B$21-B$12)","v":0.44261776794182739},-988,99.892323335944212,{"$f":"(E15-E27)*100/(E$21-E$12)","v":0.59880239520958078},-906,99.362858912549754,{"$f":"(H15-H27)*100/(H$21-H$12)","v":0.75608152531229456},4,-1236.7,{"$f":"(L16-L15)*100/(($K16-$K15)*L$33)","v":99.588324149002418},{"$f":"(L15-L27)*100/(L$21-L$11)","v":0.15760638430940771}]
[5,-363,99.013027424579434,{"$f":"(B16-B26)*100/(B$21-B$12)","v":0.50584887764780273},-653,98.401393136900268,{"$f":"(E16-E26)*100/(E$21-E$12)","v":0.56553559547571519},-569,99.068013633877499,{"$f":"(H16-H26)*100/(H$21-H$12)","v":0.69033530571992108},5,-836.2,{"$f":"(L17-L16)*100/(($K17-$K16)*L$33)","v":101.20461405404242},{"$f":"(L16-L26)*100/(L$21-L$11)","v":6.2542215995797165E-2}]
[6,-14,97.310797726735657,{"$f":"(B17-B25)*100/(B$21-B$12)","v":0.50584887764780273},-323,98.341755928938511,{"$f":"(E17-E25)*100/(E$21-E$12)","v":0.5322687957418496},-233,97.29894196184398,{"$f":"(H17-H25)*100/(H$21-H$12)","v":0.78895463510848129},6,-429.2,{"$f":"(L18-L17)*100/(($K18-$K17)*L$33)","v":103.71607990648916},{"$f":"(L17-L25)*100/(L$21-L$11)","v":6.2542215995797165E-2}]
[7,329,97.594502676376294,{"$f":"(B18-B24)*100/(B$21-B$12)","v":0.37938665823585205},6.8,97.56647222543566,{"$f":"(E18-E24)*100/(E$21-E$12)","v":0.48236859614105121},97,97.888632519188491,{"$f":"(H18-H24)*100/(H$21-H$12)","v":0.55884286653517423},7,-12.1,{"$f":"(L19-L18)*100/(($K19-$K18)*L$33)","v":102.97009995031685},{"$f":"(L18-L24)*100/(L$21-L$11)","v":0.16260976158907267}]
[8,673,98.161912575657553,{"$f":"(B19-B23)*100/(B$21-B$12)","v":0.31615554852987671},334,97.805021057282687,{"$f":"(E19-E23)*100/(E$21-E$12)","v":0.29940119760479039},429,98.183477797860746,{"$f":"(H19-H23)*100/(H$21-H$12)","v":0.39447731755424065},8,402,{"$f":"(L20-L19)*100/(($K20-$K19)*L$33)","v":101.80139801898025},{"$f":"(L19-L23)*100/(L$21-L$11)","v":0.21264353438571035}]
[9,1019,98.729322474938812,{"$f":"(B20-B22)*100/(B$21-B$12)","v":0.18969332911792602},662,97.805021057282687,{"$f":"(E20-E22)*100/(E$21-E$12)","v":0.19960079840319361},762,98.773168355205243,{"$f":"(H20-H22)*100/(H$21-H$12)","v":0.29585798816568049},9,811.4,{"$f":"(L21-L20)*100/(($K21-$K20)*L$33)","v":102.02519200583195},{"$f":"(L20-L22)*100/(L$21-L$11)","v":0.28018912766116955}]
[10,1367,100.43155217278257,null,990,99.594137296135415,null,1097,101.42677586325554,null,10,1221.7,{"$f":"(L22-L21)*100/(($K22-$K21)*L$33)","v":104.81018384220853}]
[9,1013,99.29673237422007,null,656,98.699579176709051,null,753,99.068013633877499,null,9,800.2,{"$f":"(L23-L22)*100/(($K23-$K22)*L$33)","v":101.1300160584252}]
[8,663,98.161912575657553,null,325,99.206495444383989,null,417,99.362858912549754,null,8,393.5,{"$f":"(L24-L23)*100/(($K24-$K23)*L$33)","v":102.47277997953532}]
[7,317,98.445617525298175,null,-7.7,98.789034988651693,null,80,99.362858912549754,null,7,-18.600000000000001,102.72143996492609]
[6,-30,99.013027424579434,null,-339,98.699579176709051,null,-257,98.183477797860746,null,6,-431.7,101.20461405404242]
[5,-379,99.013027424579434,null,-670,100.190509375753,null,-590,99.952549469894265,null,5,-838.7,100.53323209348731]
[4,-728,100.43155217278257,null,-1006,100.190509375753,null,-929,99.952549469894265,null,4,-1243,99.091004178220885]
[3,-1082,101.85007692098573,null,-1342,101.68143957479694,null,-1268,101.42677586325554,null,3,-1641.5,99.488860154846094]
[2,-1441,103.55230661882949,null,-1683,102.5759976942233,null,-1612,102.60615697794455,null,2,-2041.6,99.712654141697797]
[1,-1806,103.55230661882949,null,-2027,101.97962561460572,null,-1960,102.90100225661681,null,1,-2442.6,82.629713145352099]
[0,-2171,null,null,-2369,null,null,-2309,null,null,0,-2774.9]
["Zero",{"$f":"INTERCEPT(B$11:B$31,$A$11:$A$31)","v":-2145.1184275184278},"mV",null,{"$f":"INTERCEPT(E$11:E$31,$A$11:$A$31)","v":-2349.7624078624085},"mV",null,{"$f":"INTERCEPT(H$11:H$31,$A$11:$A$31)","v":-2285.5282555282556},"mV",null,"Zero",{"$f":"INTERCEPT(L$11:L$31,$K$11:$K$31)","v":-2828.8503685503692},"mV"]
["Slope",{"$f":"SLOPE(B$11:B$31,$A$11:$A$31)","v":352.47886977886981},"mV/mm",null,{"$f":"SLOPE(E$11:E$31,$A$11:$A$31)","v":335.36110565110573},"mV/mm",null,{"$f":"SLOPE(H$11:H$31,$A$11:$A$31)","v":339.16093366093367},"mV/mm",null,"Slope",{"$f":"SLOPE(L$11:L$31,$K$11:$K$31)","v":402.1555773955775},"mV/Mpa"]
[]
["Max Output",2278,"mV",null,1857,"mV",null,2002,"mV"]
["Min Output",null,"mV",null,null,"mV",null,null,"mV"]
["Max Range",{"$f":"(B35-B32)/B33","v":12.548605907336526},"mm",null,{"$f":"(E35-E32)/E33","v":12.543978228169758},"mm",null,{"$f":"(H35-H32)/H33","v":12.641574633163936},"mm"]
[]
[]
[]
[]
[]
["Do Not Enter Text Below This Line.",null,null,null,"Do Not Enter Text Below This Line.",null,null,null,"Do Not Enter Text Below This Line.",null,null,null,"Do Not Enter Text Below This Line.",null,null,null,"Do Not Enter Text Below This Line."]
[]
[]
[]
[]
[]
[]
["mm","Arm 1","Arm 2","Arm 3"]
["plot?",true,true,true]
[0,{"$f":"IF(B$51=TRUE,B11,#N/A)","v":-2165.6},{"$f":"IF(C$51=TRUE,E11,#N/A)","v":-2365},{"$f":"IF(D$51=TRUE,H11,#N/A)","v":-2300}]
[1,-1796,-2016,-1945]
[2,-1426,-1668,-1592]
[3,-1065,-1326,-1245]
[4,-714,-988,-906]
[5,-363,-653,-569]
[6,-14,-323,-233]
[7,329,6.8,97]
[8,673,334,429]
[9,1019,662,762]
[10,1367,990,1097]
[9,1013,656,753]
[8,663,325,417]
[7,317,-7.7,80]
[6,-30,-339,-257]
[5,-379,-670,-590]
[4,-728,-1006,-929]
[3,-1082,-1342,-1268]
[2,-1441,-1683,-1612]
[1,-1806,-2027,-1960]
[0,-2171,-2369,-2309]