{"text_format":"1","workbook":"xlsx","n_sheets":2,"sheets":["Info & Summary","Current Calibrations"],"not_rendered":{"charts":2,"images":9,"macros":0,"external_links":0,"defined_names":1,"comments":0,"pivot_tables":0},"unopened":[],"bounds":{"document_bytes":16777216,"sheet_cells":100000,"rows_first":2000,"rows_last":500,"rows_between":2000,"halvings":0,"cell_chars":16384,"cell_head_chars":4096},"cells_cut":0,"cells_raw":0,"read":"whole","date_system":"1900"}

{"sheet":"Info & Summary","index":0,"n_rows":16,"n_cols":14,"rows_kept":16,"cut":false,"hidden":false,"merged":[[0,0,0,7],[1,1,1,2],[1,3,1,4],[1,5,1,6],[2,1,2,2],[2,3,2,4],[2,5,2,6],[4,0,4,7],[5,0,5,7],[6,0,6,1],[6,2,6,3],[6,4,6,5],[6,6,6,7],[13,0,13,7],[14,0,14,7],[7,0,7,1],[8,0,8,1],[11,0,11,1],[12,0,12,1],[9,0,9,13],[10,2,10,3],[10,4,10,5],[10,6,10,7],[10,8,10,9],[10,10,10,11],[10,12,10,13]]}
["Instrument Information"]
[null,"Instrument Type",null,"Serial Number",null,"Instrument Name"]
[null,"SBP",null,"enter S/N",null,"enter name"]
[]
["Current Calibration Summary"]
["Pressure Cells"]
[null,null,"TPC",null,"PPC A",null,"PPC B"]
["Zero",null,{"$f":"'Current Calibrations'!$B$32","v":-1694.7194103194106},{"$f":"'Current Calibrations'!$C$32","v":"mV"},{"$f":"'Current Calibrations'!$E$32","v":-1694.7194103194106},{"$f":"'Current Calibrations'!$F$32","v":"mV"},{"$f":"'Current Calibrations'!$H$32","v":-1694.7194103194106},{"$f":"'Current Calibrations'!$I$32","v":"mV"}]
["Slope",null,{"$f":"'Current Calibrations'!$B$33","v":341.34707616707624},{"$f":"'Current Calibrations'!$C$33","v":"mV/Mpa"},{"$f":"'Current Calibrations'!$E$33","v":341.34707616707624},{"$f":"'Current Calibrations'!$F$33","v":"mV/Mpa"},{"$f":"'Current Calibrations'!$H$33","v":341.34707616707624},{"$f":"'Current Calibrations'!$I$33","v":"mV/Mpa"}]
["Arm Springs"]
[null,null,"Arm 1",null,"Arm 2",null,"Arm 3",null,"Arm 4",null,"Arm 5",null,"Arm 6"]
["Zero",null,{"$f":"'Current Calibrations'!$B$52","v":-280.65614617940196},{"$f":"'Current Calibrations'!$C$52","v":"mV"},{"$f":"'Current Calibrations'!$E$52","v":246.77275747508293},{"$f":"'Current Calibrations'!$F$52","v":"mV"},{"$f":"'Current Calibrations'!$H$52","v":-266.86976744186063},{"$f":"'Current Calibrations'!$I$52","v":"mV"},{"$f":"'Current Calibrations'!$K$52","v":-280.65614617940196},{"$f":"'Current Calibrations'!$C$52","v":"mV"},{"$f":"'Current Calibrations'!$N$52","v":246.77275747508293},{"$f":"'Current Calibrations'!$F$52","v":"mV"},{"$f":"'Current Calibrations'!$Q$52","v":-266.86976744186063},{"$f":"'Current Calibrations'!$I$52","v":"mV"}]
["Slope",null,{"$f":"'Current Calibrations'!$B$53","v":302.65083056478403},{"$f":"'Current Calibrations'!$C$53","v":"mV/mm"},{"$f":"'Current Calibrations'!$E$53","v":288.78205980066446},{"$f":"'Current Calibrations'!$F$53","v":"mV/mm"},{"$f":"'Current Calibrations'!$H$53","v":291.2418604651163},{"$f":"'Current Calibrations'!$I$53","v":"mV/mm"},{"$f":"'Current Calibrations'!$K$53","v":302.65083056478403},{"$f":"'Current Calibrations'!$C$53","v":"mV/mm"},{"$f":"'Current Calibrations'!$N$53","v":288.78205980066446},{"$f":"'Current Calibrations'!$F$53","v":"mV/mm"},{"$f":"'Current Calibrations'!$Q$53","v":291.2418604651163},{"$f":"'Current Calibrations'!$I$53","v":"mV/mm"}]
["Straightness Data Summary"]
["See the straightness calibration sheet for the locations of points A to F"]
["Date","A","B","C","D","E","F","Operator"]

{"sheet":"Current Calibrations","index":1,"n_rows":113,"n_cols":19,"rows_kept":113,"cut":false,"hidden":false,"merged":[[0,0,0,1],[0,2,0,3],[0,4,0,5],[0,6,0,7],[2,0,5,0],[2,1,5,9],[0,8,0,9],[1,0,1,1],[1,2,1,3],[1,4,1,5],[1,6,1,7],[1,8,1,9],[35,0,35,18],[6,4,6,5],[6,6,6,7],[6,8,6,9],[34,0,34,18]]}
["Calibration Date",null,"Operator",null,"Instrument Type",null,"Serial Number",null,"Instrument Name"]
[null,null,null,null,{"$f":"'Info & Summary'!B3","v":"SBP"},null,{"$f":"'Info & Summary'!D3","v":"enter S/N"},null,{"$f":"'Info & Summary'!F3","v":"enter name"}]
["Notes:"]
[]
[]
[]
[null,null,null,null,"Pressure cells",null,"Test Gauge:"]
[]
["Mpa","TPC","Linearity","Hysteresis","PPC A","Linearity","Hysteresis","PPC B","Linearity","Hysteresis"]
[null,"(mV)","(%)","(%)","(mV)","(%)","(%)","(mV)","(%)","(%)"]
[0,-1672.1,{"$f":"(B12-B11)*100/B$33","v":93.101720269151826},{"$f":"(B11-B31)*100/(B$21-B$11)","v":-7.6628352490418772E-2},-1672.1,{"$f":"(E12-E11)*100/E$33","v":93.101720269151826},{"$f":"(E11-E31)*100/(E$21-E$11)","v":-7.6628352490418772E-2},-1672.1,{"$f":"(H12-H11)*100/H$33","v":93.101720269151826},{"$f":"(H11-H31)*100/(H$21-H$11)","v":-7.6628352490418772E-2}]
[1,-1354.3,{"$f":"(B13-B12)*100/B$33","v":97.96480572059275},{"$f":"(B12-B30)*100/(B$21-B$11)","v":-0.13262599469496023},-1354.3,{"$f":"(E13-E12)*100/E$33","v":97.96480572059275},{"$f":"(E12-E30)*100/(E$21-E$11)","v":-0.13262599469496023},-1354.3,{"$f":"(H13-H12)*100/H$33","v":97.96480572059275},{"$f":"(H12-H30)*100/(H$21-H$11)","v":-0.13262599469496023}]
[2,-1019.9,{"$f":"(B14-B13)*100/B$33","v":97.759735852158471},{"$f":"(B13-B29)*100/(B$21-B$11)","v":-0.17683465959328029},-1019.9,{"$f":"(E14-E13)*100/E$33","v":97.759735852158471},{"$f":"(E13-E29)*100/(E$21-E$11)","v":-0.17683465959328029},-1019.9,{"$f":"(H14-H13)*100/H$33","v":97.759735852158471},{"$f":"(H13-H29)*100/(H$21-H$11)","v":-0.17683465959328029}]
[3,-686.2,99.283112017670106,{"$f":"(B14-B28)*100/(B$21-B$11)","v":-0.38608900677866265},-686.2,99.283112017670106,{"$f":"(E14-E28)*100/(E$21-E$11)","v":-0.38608900677866265},-686.2,99.283112017670106,{"$f":"(H14-H28)*100/(H$21-H$11)","v":-0.38608900677866265}]
[4,-347.3,99.283112017670106,{"$f":"(B15-B27)*100/(B$21-B$11)","v":-0.29472443265546716},-347.3,99.283112017670106,{"$f":"(E15-E27)*100/(E$21-E$11)","v":-0.29472443265546716},-347.3,99.283112017670106,{"$f":"(H15-H27)*100/(H$21-H$11)","v":-0.29472443265546716}]
[5,-8.4,102.15409017574967,{"$f":"(B16-B26)*100/(B$21-B$11)","v":-0.35661656351311533},-8.4,102.15409017574967,{"$f":"(E16-E26)*100/(E$21-E$11)","v":-0.35661656351311533},-8.4,102.15409017574967,{"$f":"(H16-H26)*100/(H$21-H$11)","v":-0.35661656351311533}]
[6,340.3,103.7360577322425,{"$f":"(B17-B25)*100/(B$21-B$11)","v":-0.24756852343059171},340.3,103.7360577322425,{"$f":"(E17-E25)*100/(E$21-E$11)","v":-0.24756852343059171},340.3,103.7360577322425,{"$f":"(H17-H25)*100/(H$21-H$11)","v":-0.24756852343059171}]
[7,694.4,102.53493421712763,{"$f":"(B18-B24)*100/(B$21-B$11)","v":-0.12378426171529754},694.4,102.53493421712763,{"$f":"(E18-E24)*100/(E$21-E$11)","v":-0.12378426171529754},694.4,102.53493421712763,{"$f":"(H18-H24)*100/(H$21-H$11)","v":-0.12378426171529754}]
[8,1044.4000000000001,99.95691301395405,{"$f":"(B19-B23)*100/(B$21-B$11)","v":-8.8417329796626736E-3},1044.4000000000001,99.95691301395405,{"$f":"(E19-E23)*100/(E$21-E$11)","v":-8.8417329796626736E-3},1044.4000000000001,99.95691301395405,{"$f":"(H19-H23)*100/(H$21-H$11)","v":-8.8417329796626736E-3}]
[9,1385.6,98.228466980008264,{"$f":"(B20-B22)*100/(B$21-B$11)","v":-0.30946065428824049},1385.6,98.228466980008264,{"$f":"(E20-E22)*100/(E$21-E$11)","v":-0.30946065428824049},1385.6,98.228466980008264,{"$f":"(H20-H22)*100/(H$21-H$11)","v":-0.30946065428824049}]
[10,1720.9,-95.152418953494447,null,1720.9,-95.152418953494447,null,1720.9,-95.152418953494447]
[9,1396.1,-102.94507395399604,null,1396.1,-102.94507395399604,null,1396.1,-102.94507395399604]
[8,1044.7,-101.39240209299388,null,1044.7,-101.39240209299388,null,1044.7,-101.39240209299388]
[7,698.6,-102.50563852163697,null,698.6,-102.50563852163697,null,698.6,-102.50563852163697]
[6,348.7,-101.07014944259718,null,348.7,-101.07014944259718,null,348.7,-101.07014944259718]
[5,3.7,-99.898321622972873,null,3.7,-99.898321622972873,null,3.7,-99.898321622972873]
[4,-337.3,-98.374945457461266,null,-337.3,-98.374945457461266,null,-337.3,-98.374945457461266]
[3,-673.1,-99.839730231991638,null,-673.1,-99.839730231991638,null,-673.1,-99.839730231991638]
[2,-1013.9,-98.404241152951869,null,-1013.9,-98.404241152951869,null,-1013.9,-98.404241152951869]
[1,-1349.8,-93.658338483473401,null,-1349.8,-93.658338483473401,null,-1349.8,-93.658338483473401]
[0,-1669.5,null,null,-1669.5,null,null,-1669.5]
["Zero",{"$f":"INTERCEPT(B11:B31,$A11:$A31)","v":-1694.7194103194106},"mV",null,{"$f":"INTERCEPT(E11:E31,$A11:$A31)","v":-1694.7194103194106},"mV",null,{"$f":"INTERCEPT(H11:H31,$A11:$A31)","v":-1694.7194103194106},"mV"]
["Slope",{"$f":"SLOPE(B11:B31,$A11:$A31)","v":341.34707616707624},"mV/Mpa",null,{"$f":"SLOPE(E11:E31,$A11:$A31)","v":341.34707616707624},"mV/Mpa",null,{"$f":"SLOPE(H11:H31,$A11:$A31)","v":341.34707616707624},"mV/Mpa"]
[]
["Arm Springs"]
[]
["mm","Arm 1","Linearity","Hysteresis","Arm 2","Linearity","Hysteresis","Arm 3","Linearity","Hysteresis","Arm 4","Linearity","Hysteresis","Arm 5","Linearity","Hysteresis","Arm 6","Linearity","Hysteresis"]
[null,"(mV)","(%)","(%)","(mV)","(%)","(%)","(mV)","(%)","(%)","(mV)","(%)","(%)","(mV)","(%)","(%)","(mV)","(%)","(%)"]
[0,-290.5,{"$f":"(B40-B39)*100/B$53","v":104.04729417472851},{"$f":"(B39-B51)*100/(B$45-B$39)","v":0},244.5,{"$f":"(E40-E39)*100/E$53","v":101.84150642979913},{"$f":"(E39-E51)*100/(E$45-E$39)","v":0.2487850034714193},-274.8,{"$f":"(H40-H39)*100/H$53","v":104.14024945302393},{"$f":"(H39-H51)*100/(H$45-H$39)","v":0},-290.5,{"$f":"(K40-K39)*100/K$53","v":104.04729417472851},{"$f":"(K39-K51)*100/(K$45-K$39)","v":0},244.5,{"$f":"(N40-N39)*100/N$53","v":101.84150642979913},{"$f":"(N39-N51)*100/(N$45-N$39)","v":0.2487850034714193},-274.8,{"$f":"(Q40-Q39)*100/Q$53","v":104.14024945302393},{"$f":"(Q39-Q51)*100/(Q$45-Q$39)","v":0}]
[1,24.4,102.72563912011147,{"$f":"(B40-B50)*100/(B$45-B$39)","v":0.11003521126760564},538.6,100.83728892335088,{"$f":"(E40-E50)*100/(E$45-E$39)","v":0.20249942143022448},28.5,101.42772729450466,{"$f":"(H40-H50)*100/(H$45-H$39)","v":0.26920213070622601},24.4,102.72563912011147,{"$f":"(K40-K50)*100/(K$45-K$39)","v":0.11003521126760564},538.6,100.83728892335088,{"$f":"(N40-N50)*100/(N$45-N$39)","v":0.20249942143022448},28.5,101.42772729450466,{"$f":"(Q40-Q50)*100/(Q$45-Q$39)","v":0.26920213070622601}]
[2,335.3,98.99196359081823,{"$f":"(B41-B49)*100/(B$45-B$39)","v":0.20906690140845133},829.8,99.902327796657744,{"$f":"(E41-E49)*100/(E$45-E$39)","v":0.37607035408470257},323.89999999999998,100.05429835348227,{"$f":"(H41-H49)*100/(H$45-H$39)","v":0.3952116386963731},335.3,98.99196359081823,{"$f":"(K41-K49)*100/(K$45-K$39)","v":0.20906690140845133},829.8,99.902327796657744,{"$f":"(N41-N49)*100/(N$45-N$39)","v":0.37607035408470257},323.89999999999998,100.05429835348227,{"$f":"(Q41-Q49)*100/(Q$45-Q$39)","v":0.3952116386963731}]
[3,634.9,98.529384321702281,{"$f":"(B42-B48)*100/(B$45-B$39)","v":0.15955105633802694},1118.3,99.659930467515068,{"$f":"(E42-E48)*100/(E$45-E$39)","v":0.28928488775746353},615.29999999999995,98.818212306562131,{"$f":"(H42-H48)*100/(H$45-H$39)","v":0.37802852397043984},634.9,98.529384321702281,{"$f":"(K42-K48)*100/(K$45-K$39)","v":0.15955105633802694},1118.3,99.659930467515068,{"$f":"(N42-N48)*100/(N$45-N$39)","v":0.28928488775746353},615.29999999999995,98.818212306562131,{"$f":"(Q42-Q48)*100/(Q$45-Q$39)","v":0.37802852397043984}]
[4,933.1,98.165929181682586,{"$f":"(B43-B47)*100/(B$45-B$39)","v":0.24207746478873116},1406.1,99.001994859842142,{"$f":"(E43-E47)*100/(E$45-E$39)","v":0.29507058551260756},903.1,97.89114777137199,{"$f":"(H43-H47)*100/(H$45-H$39)","v":0.2291081963457243},933.1,98.165929181682586,{"$f":"(K43-K47)*100/(K$45-K$39)","v":0.24207746478873116},1406.1,99.001994859842142,{"$f":"(N43-N47)*100/(N$45-N$39)","v":0.29507058551260756},903.1,97.89114777137199,{"$f":"(Q43-Q47)*100/(Q$45-Q$39)","v":0.2291081963457243}]
[5,1230.2,98.099846428951665,{"$f":"(B44-B46)*100/(B$45-B$39)","v":0.10453345070423035},1692,97.270585365965914,{"$f":"(E44-E46)*100/(E$45-E$39)","v":0.16778523489933411},1188.2,97.135761853809612,{"$f":"(H44-H46)*100/(H$45-H$39)","v":0.10882639326422425},1230.2,98.099846428951665,{"$f":"(K44-K46)*100/(K$45-K$39)","v":0.10453345070423035},1692,97.270585365965914,{"$f":"(N44-N46)*100/(N$45-N$39)","v":0.16778523489933411},1188.2,97.135761853809612,{"$f":"(Q44-Q46)*100/(Q$45-Q$39)","v":0.10882639326422425}]
[6,1527.1,-98.727632579894816,null,1972.9,-98.27480287241417,null,1471.1,-97.788140600795288,null,1527.1,-98.727632579894816,null,1972.9,-98.27480287241417,null,1471.1,-97.788140600795288]
[5,1228.3,-98.991963590818216,null,1689.1,-99.763815037147623,null,1186.3,-98.612197965408726,null,1228.3,-98.991963590818216,null,1689.1,-99.763815037147623,null,1186.3,-98.612197965408726]
[4,928.7,-98.033763676220872,null,1401,-99.625302277637559,null,899.1,-99.710941118226657,null,928.7,-98.033763676220872,null,1401,-99.625302277637559,null,899.1,-99.710941118226657]
[3,632,-99.289335978107076,null,1113.3,-100.42175064482061,null,608.70000000000005,-100.15730552405897,null,632,-99.289335978107076,null,1113.3,-100.42175064482061,null,608.70000000000005,-100.15730552405897]
[2,331.5,-102.13089434553378,null,823.3,-99.798443227025146,null,317,-100.67234137694236,null,331.5,-102.13089434553378,null,823.3,-99.798443227025146,null,317,-100.67234137694236]
[1,22.4,-103.38646664741997,null,535.1,-102.11853194881931,null,23.8,-102.52647044732261,null,22.4,-103.38646664741997,null,535.1,-102.11853194881931,null,23.8,-102.52647044732261]
[0,-290.5,null,null,240.2,null,null,-274.8,null,null,-290.5,null,null,240.2,null,null,-274.8]
["Zero",{"$f":"INTERCEPT(B39:B51,$A39:$A51)","v":-280.65614617940196},"mV",null,{"$f":"INTERCEPT(E39:E51,$A39:$A51)","v":246.77275747508293},"mV",null,{"$f":"INTERCEPT(H39:H51,$A39:$A51)","v":-266.86976744186063},"mV",null,{"$f":"INTERCEPT(K39:K51,$A39:$A51)","v":-280.65614617940196},"mV",null,{"$f":"INTERCEPT(N39:N51,$A39:$A51)","v":246.77275747508293},"mV",null,{"$f":"INTERCEPT(Q39:Q51,$A39:$A51)","v":-266.86976744186063},"mV"]
["Slope",{"$f":"SLOPE(B39:B51,$A39:$A51)","v":302.65083056478403},"mV/mm",null,{"$f":"SLOPE(E39:E51,$A39:$A51)","v":288.78205980066446},"mV/mm",null,{"$f":"SLOPE(H39:H51,$A39:$A51)","v":291.2418604651163},"mV/mm",null,{"$f":"SLOPE(K39:K51,$A39:$A51)","v":302.65083056478403},"mV/mm",null,{"$f":"SLOPE(N39:N51,$A39:$A51)","v":288.78205980066446},"mV/mm",null,{"$f":"SLOPE(Q39:Q51,$A39:$A51)","v":291.2418604651163},"mV/mm"]
[]
[]
[]
[]
[]
[]
[]
[]
[]
[]
[]
[]
[]
[]
[]
[]
[]
[]
[]
[]
[]
[]
[]
[]
[]
[]
[]
[]
[]
[]
[]
[]
[]
["Do Not Enter Text Below This Line.",null,null,null,"Do Not Enter Text Below This Line.",null,null,null,"Do Not Enter Text Below This Line.",null,null,null,"Do Not Enter Text Below This Line.",null,null,null,"Do Not Enter Text Below This Line."]
[]
[]
[]
["mm","Arm 1","Arm 2","Arm 3","Arm 4","Arm 5","Arm 6",null,"Mpa","TPC","PPC A","PPC B"]
["Plot?",true,true,true,true,true,true,null,"plot?",true,true,true]
[0,{"$f":"IF(B$92=TRUE,B39,#N/A)","v":-290.5},{"$f":"IF(C$92=TRUE,E39,#N/A)","v":244.5},{"$f":"IF(D$92=TRUE,H39,#N/A)","v":-274.8},{"$f":"IF(E$92=TRUE,K39,#N/A)","v":-290.5},{"$f":"IF(F$92=TRUE,N39,#N/A)","v":244.5},{"$f":"IF(G$92=TRUE,Q39,#N/A)","v":-274.8},null,0,{"$f":"IF(J$92=TRUE,B11,#N/A)","v":-1672.1},{"$f":"IF(K$92=TRUE,E11,#N/A)","v":-1672.1},{"$f":"IF(L$92=TRUE,H11,#N/A)","v":-1672.1}]
[1,24.4,538.6,28.5,24.4,538.6,28.5,null,1,{"$f":"IF(J$92=TRUE,B12,#N/A)","v":-1354.3},{"$f":"IF(K$92=TRUE,E12,#N/A)","v":-1354.3},{"$f":"IF(L$92=TRUE,H12,#N/A)","v":-1354.3}]
[2,335.3,829.8,323.89999999999998,335.3,829.8,323.89999999999998,null,2,-1019.9,-1019.9,-1019.9]
[3,634.9,1118.3,615.29999999999995,634.9,1118.3,615.29999999999995,null,3,-686.2,-686.2,-686.2]
[4,933.1,1406.1,903.1,933.1,1406.1,903.1,null,4,-347.3,-347.3,-347.3]
[5,1230.2,1692,1188.2,1230.2,1692,1188.2,null,5,-8.4,-8.4,-8.4]
[6,1527.1,1972.9,1471.1,1527.1,1972.9,1471.1,null,6,340.3,340.3,340.3]
[5,1228.3,1689.1,1186.3,1228.3,1689.1,1186.3,null,7,694.4,694.4,694.4]
[4,928.7,1401,899.1,928.7,1401,899.1,null,8,1044.4000000000001,1044.4000000000001,1044.4000000000001]
[3,632,1113.3,608.70000000000005,632,1113.3,608.70000000000005,null,9,1385.6,1385.6,1385.6]
[2,331.5,823.3,317,331.5,823.3,317,null,10,1720.9,1720.9,1720.9]
[1,22.4,535.1,23.8,22.4,535.1,23.8,null,9,1396.1,1396.1,1396.1]
[0,-290.5,240.2,-274.8,-290.5,240.2,-274.8,null,8,1044.7,1044.7,1044.7]
[null,null,null,null,null,null,null,null,7,698.6,698.6,698.6]
[null,null,null,null,null,null,null,null,6,348.7,348.7,348.7]
[null,null,null,null,null,null,null,null,5,3.7,3.7,3.7]
[null,null,null,null,null,null,null,null,4,-337.3,-337.3,-337.3]
[null,null,null,null,null,null,null,null,3,-673.1,-673.1,-673.1]
[null,null,null,null,null,null,null,null,2,-1013.9,-1013.9,-1013.9]
[null,null,null,null,null,null,null,null,1,-1349.8,-1349.8,-1349.8]
[null,null,null,null,null,null,null,null,0,-1669.5,-1669.5,-1669.5]